BEGIN:VCALENDAR
VERSION:2.0
PRODID:-//eventon.com NONSGML v1.0//EN
BEGIN:VEVENT
UID:69e5e9d47ea93
DTSTAMP:20260420T105444
DTSTART:20191202T113000Z
DTEND:20191202T143000Z
LOCATION:Centre social - Oran 60 Rue d'Oran\,  59100 Roubaix
SUMMARY:Couture
DESCRIPTION: Un atelier « Vos mains ont du talent » pour apprendre la couture sous toutes ses formes.
END:VEVENT
END:VCALENDAR