BEGIN:VCALENDAR
VERSION:2.0
PRODID:-//eventon.com NONSGML v1.0//EN
BEGIN:VEVENT
UID:69e8a6eb90f0f
DTSTAMP:20260422T124603
DTSTART:20191118T113000Z
DTEND:20191118T143000Z
LOCATION:Centre social - Oran 60 Rue d'Oran\,  59100 Roubaix
SUMMARY:Couture
DESCRIPTION: Un atelier « Vos mains ont du talent » pour apprendre la couture sous toutes ses formes.
END:VEVENT
END:VCALENDAR